BEGIN:VCALENDAR
VERSION:2.0
PRODID:-//DuSable Black History Museum and Education Center - ECPv5.8.0//NONSGML v1.0//EN
CALSCALE:GREGORIAN
METHOD:PUBLISH
X-WR-CALNAME:DuSable Black History Museum and Education Center
X-ORIGINAL-URL:https://dusablemuseum.org
X-WR-CALDESC:Events for DuSable Black History Museum and Education Center
BEGIN:VTIMEZONE
TZID:America/Chicago
BEGIN:DAYLIGHT
TZOFFSETFROM:-0600
TZOFFSETTO:-0500
TZNAME:CDT
DTSTART:20260308T080000
END:DAYLIGHT
BEGIN:STANDARD
TZOFFSETFROM:-0500
TZOFFSETTO:-0600
TZNAME:CST
DTSTART:20261101T070000
END:STANDARD
END:VTIMEZONE
BEGIN:VEVENT
DTSTART;TZID=America/Chicago:20260428T173000
DTEND;TZID=America/Chicago:20260428T193000
DTSTAMP:20260422T100607
CREATED:20260416T170455Z
LAST-MODIFIED:20260416T170455Z
UID:62044-1777397400-1777404600@dusablemuseum.org
SUMMARY:15th Annual International Jazz Day
DESCRIPTION:Celebrate the global language of jazz with an unforgettable evening at the DuSable Black History Museum & Education Center. This special International Jazz Day experience takes place within the Paris in Black exhibit\, offering a unique fusion of music\, history\, and culture. \nParis in Black traces the powerful journeys of Black artists\, writers\, performers\, and intellectuals who found freedom\, inspiration\, and transformation in the vibrant cultural landscape of Paris. As you explore the exhibit\, enjoy an evening of live jazz that honors this legacy and the enduring influence of Black artistry around the world. \nJoin us for a dynamic celebration of sound\, storytelling\, and cultural expression in an atmosphere that reflects both history and innovation. \nAdmission: Free and open to the publicDate: Tuesday\, April 28\, 2026Time: 5:30 PM – 7:30 PMLocation: DuSable Black History Museum & Education Center740 E 56th Place\, Chicago\, IL 60637
URL:https://dusablemuseum.org/event/15th-annual-international-jazz-day/
ATTACH;FMTTYPE=image/png:https://dusablemuseum.org/wp-content/uploads/2026/04/IJD_NJN-An-Evening-of-Jazz-at-the-Paris-.png
END:VEVENT
END:VCALENDAR